BEGIN:VCALENDAR
VERSION:2.0
PRODID:-//Wach Auf e.V. - ECPv6.15.13//NONSGML v1.0//EN
CALSCALE:GREGORIAN
METHOD:PUBLISH
X-ORIGINAL-URL:https://www.wach-auf.com.kcrl-devops.de
X-WR-CALDESC:Veranstaltungen für Wach Auf e.V.
REFRESH-INTERVAL;VALUE=DURATION:PT1H
X-Robots-Tag:noindex
X-PUBLISHED-TTL:PT1H
BEGIN:VTIMEZONE
TZID:Europe/Berlin
BEGIN:DAYLIGHT
TZOFFSETFROM:+0100
TZOFFSETTO:+0200
TZNAME:CEST
DTSTART:20250330T010000
END:DAYLIGHT
BEGIN:STANDARD
TZOFFSETFROM:+0200
TZOFFSETTO:+0100
TZNAME:CET
DTSTART:20251026T010000
END:STANDARD
BEGIN:DAYLIGHT
TZOFFSETFROM:+0100
TZOFFSETTO:+0200
TZNAME:CEST
DTSTART:20260329T010000
END:DAYLIGHT
BEGIN:STANDARD
TZOFFSETFROM:+0200
TZOFFSETTO:+0100
TZNAME:CET
DTSTART:20261025T010000
END:STANDARD
BEGIN:DAYLIGHT
TZOFFSETFROM:+0100
TZOFFSETTO:+0200
TZNAME:CEST
DTSTART:20270328T010000
END:DAYLIGHT
BEGIN:STANDARD
TZOFFSETFROM:+0200
TZOFFSETTO:+0100
TZNAME:CET
DTSTART:20271031T010000
END:STANDARD
END:VTIMEZONE
BEGIN:VEVENT
DTSTART;VALUE=DATE:20260601
DTEND;VALUE=DATE:20261001
DTSTAMP:20260421T053933
CREATED:20251222T191554Z
LAST-MODIFIED:20251223T100828Z
UID:10000004-1780272000-1790812799@www.wach-auf.com.kcrl-devops.de
SUMMARY:Wach auf - Evangelisation summer 2026
DESCRIPTION:
URL:https://www.wach-auf.com.kcrl-devops.de/events/wach-auf-evangelisation-summer-2026/
LOCATION:Gloria International Ministries\, Dieselstraße 12 A\, Fulda\, 36041\, Germany
CATEGORIES:Nationale Konferenz
ATTACH;FMTTYPE=image/jpeg:https://www.wach-auf.com.kcrl-devops.de/wp-content/uploads/2025/12/katsia-jazwinska-dxiFrXpcyCA-unsplash.jpg
END:VEVENT
END:VCALENDAR